BEGIN:VCALENDAR
VERSION:2.0
PRODID:-//Department Of Education//823fd4a5-acbb-49d1-840d-9c1846ff6a7e
BEGIN:VTIMEZONE
TZID:Australia/Sydney
TZURL:http://tzurl.org/zoneinfo-outlook/Australia/Sydney
X-LIC-LOCATION:Australia/Sydney
BEGIN:STANDARD
TZOFFSETFROM:+1100
TZOFFSETTO:+1000
TZNAME:AEST
DTSTART:19700405T030000
RRULE:FREQ=YEARLY;BYMONTH=4;BYDAY=1SU
END:STANDARD
BEGIN:DAYLIGHT
TZOFFSETFROM:+1000
TZOFFSETTO:+1100
TZNAME:AEDT
DTSTART:19701004T020000
RRULE:FREQ=YEARLY;BYMONTH=10;BYDAY=1SU
END:DAYLIGHT
END:VTIMEZONE
CALSCALE:GREGORIAN
X-WR-TIMEZONE:Australia/Sydney
BEGIN:VEVENT
DTSTART;VALUE=DATE:20200203
DTEND;VALUE=DATE:20200204
DTSTAMP:20200203T134020Z
UID:1d295e69-13c0-48cc-911f-370c61fb5b1b
LOCATION:Stewart House School
SUMMARY;LANGUAGE=en-us:Hawkesbury, Mount Druitt, Minchinbury
SEQUENCE:0
DESCRIPTION:Visitors to Stewart House
END:VEVENT
TRANSP:TRANSPARENT
END:VCALENDAR
