BEGIN:VCALENDAR
VERSION:2.0
PRODID:-//Department Of Education//b17034a3-6471-43e4-8f40-425f1f8ffa69
BEGIN:VTIMEZONE
TZID:Australia/Sydney
TZURL:http://tzurl.org/zoneinfo-outlook/Australia/Sydney
X-LIC-LOCATION:Australia/Sydney
BEGIN:STANDARD
TZOFFSETFROM:+1100
TZOFFSETTO:+1000
TZNAME:AEST
DTSTART:19700405T030000
RRULE:FREQ=YEARLY;BYMONTH=4;BYDAY=1SU
END:STANDARD
BEGIN:DAYLIGHT
TZOFFSETFROM:+1000
TZOFFSETTO:+1100
TZNAME:AEDT
DTSTART:19701004T020000
RRULE:FREQ=YEARLY;BYMONTH=10;BYDAY=1SU
END:DAYLIGHT
END:VTIMEZONE
CALSCALE:GREGORIAN
X-WR-TIMEZONE:Australia/Sydney
BEGIN:VEVENT
DTSTART;VALUE=DATE:20200217
DTEND;VALUE=DATE:20200229
DTSTAMP:20200217T000000Z
UID:abb5bc5a-aa6c-4d90-a3b9-8decf0e952ae
LOCATION:Stewart House
SUMMARY;LANGUAGE=en-us:Maitland and Taree
SEQUENCE:0
DESCRIPTION:Group 2 2020 visitors to Stewart House
END:VEVENT
TRANSP:TRANSPARENT
END:VCALENDAR
