BEGIN:VCALENDAR
VERSION:2.0
PRODID:-//Department Of Education//801094f4-5596-4e01-8fa9-31467a2da730
BEGIN:VTIMEZONE
TZID:Australia/Sydney
TZURL:http://tzurl.org/zoneinfo-outlook/Australia/Sydney
X-LIC-LOCATION:Australia/Sydney
BEGIN:STANDARD
TZOFFSETFROM:+1100
TZOFFSETTO:+1000
TZNAME:AEST
DTSTART:19700405T030000
RRULE:FREQ=YEARLY;BYMONTH=4;BYDAY=1SU
END:STANDARD
BEGIN:DAYLIGHT
TZOFFSETFROM:+1000
TZOFFSETTO:+1100
TZNAME:AEDT
DTSTART:19701004T020000
RRULE:FREQ=YEARLY;BYMONTH=10;BYDAY=1SU
END:DAYLIGHT
END:VTIMEZONE
CALSCALE:GREGORIAN
X-WR-TIMEZONE:Australia/Sydney
BEGIN:VEVENT
DTSTART;VALUE=DATE:20200203
DTEND;VALUE=DATE:20200606
DTSTAMP:20200203T171415Z
UID:477061d1-fab4-4c32-90a0-d25fe972d0f8
LOCATION:Stewart House
SUMMARY;LANGUAGE=en-us:Mid North Coast, Port Macquarie, Northern Beaches
SEQUENCE:0
DESCRIPTION:Group 8 visitors
END:VEVENT
TRANSP:TRANSPARENT
END:VCALENDAR
