BEGIN:VCALENDAR
VERSION:2.0
PRODID:-//Department Of Education//e9f1c60d-c4e9-4178-a530-b18337288b9e
BEGIN:VTIMEZONE
TZID:Australia/Sydney
TZURL:http://tzurl.org/zoneinfo-outlook/Australia/Sydney
X-LIC-LOCATION:Australia/Sydney
BEGIN:STANDARD
TZOFFSETFROM:+1100
TZOFFSETTO:+1000
TZNAME:AEST
DTSTART:19700405T030000
RRULE:FREQ=YEARLY;BYMONTH=4;BYDAY=1SU
END:STANDARD
BEGIN:DAYLIGHT
TZOFFSETFROM:+1000
TZOFFSETTO:+1100
TZNAME:AEDT
DTSTART:19701004T020000
RRULE:FREQ=YEARLY;BYMONTH=10;BYDAY=1SU
END:DAYLIGHT
END:VTIMEZONE
CALSCALE:GREGORIAN
X-WR-TIMEZONE:Australia/Sydney
BEGIN:VEVENT
DTSTART;VALUE=DATE:20200316
DTEND;VALUE=DATE:20200328
DTSTAMP:20200316T000000Z
UID:d64c449b-5e8c-4bd9-9111-ac13cf14d74a
LOCATION:Stewart House
SUMMARY;LANGUAGE=en-us:Lake Macquarie, Newcastle
SEQUENCE:0
DESCRIPTION:Group 4 visitors
END:VEVENT
TRANSP:TRANSPARENT
END:VCALENDAR
