BEGIN:VCALENDAR
VERSION:2.0
PRODID:-//Department Of Education//00ca0399-c372-47d8-8f81-b16d3a10e8a8
BEGIN:VTIMEZONE
TZID:Australia/Sydney
TZURL:http://tzurl.org/zoneinfo-outlook/Australia/Sydney
X-LIC-LOCATION:Australia/Sydney
BEGIN:STANDARD
TZOFFSETFROM:+1100
TZOFFSETTO:+1000
TZNAME:AEST
DTSTART:19700405T030000
RRULE:FREQ=YEARLY;BYMONTH=4;BYDAY=1SU
END:STANDARD
BEGIN:DAYLIGHT
TZOFFSETFROM:+1000
TZOFFSETTO:+1100
TZNAME:AEDT
DTSTART:19701004T020000
RRULE:FREQ=YEARLY;BYMONTH=10;BYDAY=1SU
END:DAYLIGHT
END:VTIMEZONE
CALSCALE:GREGORIAN
X-WR-TIMEZONE:Australia/Sydney
BEGIN:VEVENT
DTSTART;VALUE=DATE:20200302
DTEND;VALUE=DATE:20200314
DTSTAMP:20200302T000000Z
UID:7986e64d-0fb9-420a-8758-e6c485d19295
LOCATION:Stewart House
SUMMARY;LANGUAGE=en-us:Port Jackson and Campbelltown
SEQUENCE:0
DESCRIPTION:Group 3 visitors 
END:VEVENT
TRANSP:TRANSPARENT
END:VCALENDAR
